Workbook
Name A_responsable: '[1]Base corrupción'!$A$65:$A$66
Name A_responsable: [2]Base!$A$65:$A$66
Name A_responsable: '[3]Base corrupción'!$A$65:$A$66
Name A_responsable: '[3]Base corrupción'!$A$65:$A$66
Name A_responsable: '[4]Base corrupción'!$A$65:$A$66
Name A_responsable: '[4]Base corrupción'!$A$65:$A$66
Name A_responsable: 'Base corrupción'!$A$65:$A$66
Name Act_control: '[1]Base corrupción'!$A$82:$A$83
Name Act_control: [2]Base!$A$82:$A$83
Name Act_control: '[3]Base corrupción'!$A$82:$A$83
Name Act_control: '[3]Base corrupción'!$A$82:$A$83
Name Act_control: '[4]Base corrupción'!$A$82:$A$83
Name Act_control: '[4]Base corrupción'!$A$82:$A$83
Name Act_control: 'Base corrupción'!$A$82:$A$83
Name C_Externo: 'Base corrupción'!$A$9:$A$14
Name C_Interno: 'Base corrupción'!$A$19:$A$25
Name C_Proceso: 'Base corrupción'!$A$29:$A$35
Name Contexto: 'Base corrupción'!$A$2:$A$4
Name CONTROLG: '[5]Tabla Valoración controles'!$C$28:$C$41
Name Desviaciones: '[1]Base corrupción'!$A$86:$A$87
Name Desviaciones: [2]Base!$A$86:$A$87
Name Desviaciones: '[3]Base corrupción'!$A$86:$A$87
Name Desviaciones: '[3]Base corrupción'!$A$86:$A$87
Name Desviaciones: '[4]Base corrupción'!$A$86:$A$87
Name Desviaciones: '[4]Base corrupción'!$A$86:$A$87
Name Desviaciones: 'Base corrupción'!$A$86:$A$87
Name Evidencia: '[1]Base corrupción'!$A$90:$A$92
Name Evidencia: [2]Base!$A$90:$A$92
Name Evidencia: '[3]Base corrupción'!$A$90:$A$92
Name Evidencia: '[3]Base corrupción'!$A$90:$A$92
Name Evidencia: '[4]Base corrupción'!$A$90:$A$92
Name Evidencia: '[4]Base corrupción'!$A$90:$A$92
Name Evidencia: 'Base corrupción'!$A$90:$A$92
Name Influencia_C: '[1]Base corrupción'!$A$111:$A$113
Name Influencia_C: [2]Base!$A$111:$A$113
Name Influencia_C: '[3]Base corrupción'!$A$111:$A$113
Name Influencia_C: '[3]Base corrupción'!$A$111:$A$113
Name Influencia_C: '[4]Base corrupción'!$A$111:$A$113
Name Influencia_C: '[4]Base corrupción'!$A$111:$A$113
Name Influencia_C: 'Base corrupción'!$A$111:$A$113
Name Influencia_CP: '[1]Base corrupción'!$A$111:$A$112
Name Influencia_CP: [2]Base!$A$111:$A$112
Name Influencia_CP: '[3]Base corrupción'!$A$111:$A$112
Name Influencia_CP: '[3]Base corrupción'!$A$111:$A$112
Name Influencia_CP: '[4]Base corrupción'!$A$111:$A$112
Name Influencia_CP: '[4]Base corrupción'!$A$111:$A$112
Name Influencia_CP: 'Base corrupción'!$A$111:$A$112
Name lkpm: [6]Base!$A$111:$A$112
Name lkpm1: [6]Base!$M$2:$M$24
Name lkpm12: [6]Base!$M$2:$M$24
Name lkpm3: [6]Base!$G$2:$H$6
Name lkpm4: [6]Base!$C$2:$C$6
Name lkpm6: [6]Base!$G$11:$G$15
Name LKPM9: [6]Base!$G$2:$H$6
Name N_Impacto: '[1]Base corrupción'!$C$2:$C$6
Name N_Impacto: [2]Base!$C$2:$C$6
Name N_Impacto: '[3]Base corrupción'!$C$2:$C$6
Name N_Impacto: '[3]Base corrupción'!$C$2:$C$6
Name N_Impacto: '[4]Base corrupción'!$C$2:$C$6
Name N_Impacto: '[4]Base corrupción'!$C$2:$C$6

Sheet Matriz Calor Inherente
B2: Matriz de Calor Inherente | J2: Impacto
B6: Probabilidad | E6: Muy Alta 100% | J6: =IF(AND('Matriz riesgos de gestión'!$M$4="Muy Alta",'Matriz riesgos de gestión'!$Q$4="Leve"),CONCATENATE("R",'Matriz riesgos de gestión'!$A$4),"") | L6: =IF(AND('Matriz riesgos de gestión'!$M$15="Muy Alta",'Matriz riesgos de gestión'!$Q$15="Leve"),CONCATENATE("R",'Matriz riesgos de gestión'!$A$15),"") | N6: =IF(AND('Matriz riesgos de gestión'!$M$25="Muy Alta",'Matriz riesgos de gestión'!$Q$25="Leve"),CONCATENATE("R",'Matriz riesgos de gestión'!$A$25),"") | P6: =IF(AND('Matriz riesgos de gestión'!$M$4="Muy Alta",'Matriz riesgos de gestión'!$Q$4="Menor"),CONCATENATE("R",'Matriz riesgos de gestión'!$A$4),"") | R6: =IF(AND('Matriz riesgos de gestión'!$M$15="Muy Alta",'Matriz riesgos de gestión'!$Q$15="Menor"),CONCATENATE("R",'Matriz riesgos de gestión'!$A$15),"") | T6: =IF(AND('Matriz riesgos de gestión'!$M$25="Muy Alta",'Matriz riesgos de gestión'!$Q$25="Menor"),CONCATENATE("R",'Matriz riesgos de gestión'!$A$25),"") | V6: =IF(AND('Matriz riesgos de gestión'!$M$4="Muy Alta",'Matriz riesgos de gestión'!$Q$4="Moderado"),CONCATENATE("R",'Matriz riesgos de gestión'!$A$4),"") | X6: =IF(AND('Matriz riesgos de gestión'!$M$15="Muy Alta",'Matriz riesgos de gestión'!$Q$15="Moderado"),CONCATENATE("R",'Matriz riesgos de gestión'!$A$15),"") | Z6: =IF(AND('Matriz riesgos de gestión'!$M$25="Muy Alta",'Matriz riesgos de gestión'!$Q$25="Moderado"),CONCATENATE("R",'Matriz riesgos de gestión'!$A$25),"") | AB6: =IF(AND('Matriz riesgos de gestión'!$M$4="Muy Alta",'Matriz riesgos de gestión'!$Q$4="Mayor"),CONCATENATE("R",'Matriz riesgos de gestión'!$A$4),"") | AD6: =IF(AND('Matriz riesgos de gestión'!$M$15="Muy Alta",'Matriz riesgos de gestión'!$Q$15="Mayor"),CONCATENATE("R",'Matriz riesgos de gestión'!$A$15),"") | AF6: =IF(AND('Matriz riesgos de gestión'!$M$25="Muy Alta",'Matriz riesgos de gestión'!$Q$25="Mayor"),CONCATENATE("R",'Matriz riesgos de gestión'!$A$25),"") | AH6: =IF(AND('Matriz riesgos de gestión'!$M$4="Muy Alta",'Matriz riesgos de gestión'!$Q$4="Catastrófico"),CONCATENATE("R",'Matriz riesgos de gestión'!$A$4),"") | AJ6: =IF(AND('Matriz riesgos de gestión'!$M$15="Muy Alta",'Matriz riesgos de gestión'!$Q$15="Catastrófico"),CONCATENATE("R",'Matriz riesgos de gestión'!$A$15),"") | AL6: =IF(AND('Matriz riesgos de gestión'!$M$25="Muy Alta",'Matriz riesgos de gestión'!$Q$25="Catastrófico"),CONCATENATE("R",'Matriz riesgos de gestión'!$A$25),"") | AO6: Extremo
J8: =IF(AND('Matriz riesgos de gestión'!$M$31="Muy Alta",'Matriz riesgos de gestión'!$Q$31="Leve"),CONCATENATE("R",'Matriz riesgos de gestión'!$A$31),"") | L8: =IF(AND('Matriz riesgos de gestión'!$M$37="Muy Alta",'Matriz riesgos de gestión'!$Q$37="Leve"),CONCATENATE("R",'Matriz riesgos de gestión'!$A$37),"") | N8: =IF(AND('Matriz riesgos de gestión'!$M$43="Muy Alta",'Matriz riesgos de gestión'!$Q$43="Leve"),CONCATENATE("R",'Matriz riesgos de gestión'!$A$43),"") | P8: =IF(AND('Matriz riesgos de gestión'!$M$31="Muy Alta",'Matriz riesgos de gestión'!$Q$31="Menor"),CONCATENATE("R",'Matriz riesgos de gestión'!$A$31),"") | R8: =IF(AND('Matriz riesgos de gestión'!$M$37="Muy Alta",'Matriz riesgos de gestión'!$Q$37="Menor"),CONCATENATE("R",'Matriz riesgos de gestión'!$A$37),"") | T8: =IF(AND('Matriz riesgos de gestión'!$M$43="Muy Alta",'Matriz riesgos de gestión'!$Q$43="Menor"),CONCATENATE("R",'Matriz riesgos de gestión'!$A$43),"") | V8: =IF(AND('Matriz riesgos de gestión'!$M$31="Muy Alta",'Matriz riesgos de gestión'!$Q$31="Moderado"),CONCATENATE("R",'Matriz riesgos de gestión'!$A$31),"") | X8: =IF(AND('Matriz riesgos de gestión'!$M$37="Muy Alta",'Matriz riesgos de gestión'!$Q$37="Moderado"),CONCATENATE("R",'Matriz riesgos de gestión'!$A$37),"") | Z8: =IF(AND('Matriz riesgos de gestión'!$M$43="Muy Alta",'Matriz riesgos de gestión'!$Q$43="Moderado"),CONCATENATE("R",'Matriz riesgos de gestión'!$A$43),"") | AB8: =IF(AND('Matriz riesgos de gestión'!$M$31="Muy Alta",'Matriz riesgos de gestión'!$Q$31="Mayor"),CONCATENATE("R",'Matriz riesgos de gestión'!$A$31),"") | AD8: =IF(AND('Matriz riesgos de gestión'!$M$37="Muy Alta",'Matriz riesgos de gestión'!$Q$37="Mayor"),CONCATENATE("R",'Matriz riesgos de gestión'!$A$37),"") | AF8: =IF(AND('Matriz riesgos de gestión'!$M$43="Muy Alta",'Matriz riesgos de gestión'!$Q$43="Mayor"),CONCATENATE("R",'Matriz riesgos de gestión'!$A$43),"") | AH8: =IF(AND('Matriz riesgos de gestión'!$M$31="Muy Alta",'Matriz riesgos de gestión'!$Q$31="Catastrófico"),CONCATENATE("R",'Matriz riesgos de gestión'!$A$31),"") | AJ8: =IF(AND('Matriz riesgos de gestión'!$M$37="Muy Alta",'Matriz riesgos de gestión'!$Q$37="Catastrófico"),CONCATENATE("R",'Matriz riesgos de gestión'!$A$37),"") | AL8: =IF(AND('Matriz riesgos de gestión'!$M$43="Muy Alta",'Matriz riesgos de gestión'!$Q$43="Catastrófico"),CONCATENATE("R",'Matriz riesgos de gestión'!$A$43),"")
J10: =IF(AND('Matriz riesgos de gestión'!$M$49="Muy Alta",'Matriz riesgos de gestión'!$Q$49="Leve"),CONCATENATE("R",'Matriz riesgos de gestión'!$A$49),"") | L10: =IF(AND('Matriz riesgos de gestión'!$M$55="Muy Alta",'Matriz riesgos de gestión'!$Q$55="Leve"),CONCATENATE("R",'Matriz riesgos de gestión'!$A$55),"") | N10: =IF(AND('Matriz riesgos de gestión'!$M$61="Muy Alta",'Matriz riesgos de gestión'!$Q$61="Leve"),CONCATENATE("R",'Matriz riesgos de gestión'!$A$61),"") | P10: =IF(AND('Matriz riesgos de gestión'!$M$49="Muy Alta",'Matriz riesgos de gestión'!$Q$49="Menor"),CONCATENATE("R",'Matriz riesgos de gestión'!$A$49),"") | R10: =IF(AND('Matriz riesgos de gestión'!$M$55="Muy Alta",'Matriz riesgos de gestión'!$Q$55="Menor"),CONCATENATE("R",'Matriz riesgos de gestión'!$A$55),"") | T10: =IF(AND('Matriz riesgos de gestión'!$M$61="Muy Alta",'Matriz riesgos de gestión'!$Q$61="Menor"),CONCATENATE("R",'Matriz riesgos de gestión'!$A$61),"") | V10: =IF(AND('Matriz riesgos de gestión'!$M$49="Muy Alta",'Matriz riesgos de gestión'!$Q$49="Moderado"),CONCATENATE("R",'Matriz riesgos de gestión'!$A$49),"") | X10: =IF(AND('Matriz riesgos de gestión'!$M$55="Muy Alta",'Matriz riesgos de gestión'!$Q$55="Moderado"),CONCATENATE("R",'Matriz riesgos de gestión'!$A$55),"") -> R27 | Z10: =IF(AND('Matriz riesgos de gestión'!$M$61="Muy Alta",'Matriz riesgos de gestión'!$Q$61="Moderado"),CONCATENATE("R",'Matriz riesgos de gestión'!$A$61),"") | AB10: =IF(AND('Matriz riesgos de gestión'!$M$49="Muy Alta",'Matriz riesgos de gestión'!$Q$49="Mayor"),CONCATENATE("R",'Matriz riesgos de gestión'!$A$49),"") | AD10: =IF(AND('Matriz riesgos de gestión'!$M$55="Muy Alta",'Matriz riesgos de gestión'!$Q$55="Mayor"),CONCATENATE("R",'Matriz riesgos de gestión'!$A$55),"") | AF10: =IF(AND('Matriz riesgos de gestión'!$M$61="Muy Alta",'Matriz riesgos de gestión'!$Q$61="Mayor"),CONCATENATE("R",'Matriz riesgos de gestión'!$A$61),"") | AH10: =IF(AND('Matriz riesgos de gestión'!$M$49="Muy Alta",'Matriz riesgos de gestión'!$Q$49="Catastrófico"),CONCATENATE("R",'Matriz riesgos de gestión'!$A$49),"") | AJ10: =IF(AND('Matriz riesgos de gestión'!$M$55="Muy Alta",'Matriz riesgos de gestión'!$Q$55="Catastrófico"),CONCATENATE("R",'Matriz riesgos de gestión'!$A$55),"") | AL10: =IF(AND('Matriz riesgos de gestión'!$M$61="Muy Alta",'Matriz riesgos de gestión'!$Q$61="Catastrófico"),CONCATENATE("R",'Matriz riesgos de gestión'!$A$61),"")
J12: =IF(AND('Matriz riesgos de gestión'!$M$67="Muy Alta",'Matriz riesgos de gestión'!$Q$67="Leve"),CONCATENATE("R",'Matriz riesgos de gestión'!$A$67),"") | L12: =IF(AND('Matriz riesgos de gestión'!$M$73="Muy Alta",'Matriz riesgos de gestión'!$Q$73="Leve"),CONCATENATE("R",'Matriz riesgos de gestión'!$A$73),"") | N12: =IF(AND('Matriz riesgos de gestión'!$M$79="Muy Alta",'Matriz riesgos de gestión'!$Q$79="Leve"),CONCATENATE("R",'Matriz riesgos de gestión'!$A$79),"") | P12: =IF(AND('Matriz riesgos de gestión'!$M$67="Muy Alta",'Matriz riesgos de gestión'!$Q$67="Menor"),CONCATENATE("R",'Matriz riesgos de gestión'!$A$67),"") | R12: =IF(AND('Matriz riesgos de gestión'!$M$73="Muy Alta",'Matriz riesgos de gestión'!$Q$73="Menor"),CONCATENATE("R",'Matriz riesgos de gestión'!$A$73),"") | T12: =IF(AND('Matriz riesgos de gestión'!$M$79="Muy Alta",'Matriz riesgos de gestión'!$Q$79="Menor"),CONCATENATE("R",'Matriz riesgos de gestión'!$A$79),"") | V12: =IF(AND('Matriz riesgos de gestión'!$M$67="Muy Alta",'Matriz riesgos de gestión'!$Q$67="Moderado"),CONCATENATE("R",'Matriz riesgos de gestión'!$A$67),"") | X12: =IF(AND('Matriz riesgos de gestión'!$M$73="Muy Alta",'Matriz riesgos de gestión'!$Q$73="Moderado"),CONCATENATE("R",'Matriz riesgos de gestión'!$A$73),"") | Z12: =IF(AND('Matriz riesgos de gestión'!$M$79="Muy Alta",'Matriz riesgos de gestión'!$Q$79="Moderado"),CONCATENATE("R",'Matriz riesgos de gestión'!$A$79),"") | AB12: =IF(AND('Matriz riesgos de gestión'!$M$67="Muy Alta",'Matriz riesgos de gestión'!$Q$67="Mayor"),CONCATENATE("R",'Matriz riesgos de gestión'!$A$67),"") | AD12: =IF(AND('Matriz riesgos de gestión'!$M$73="Muy Alta",'Matriz riesgos de gestión'!$Q$73="Mayor"),CONCATENATE("R",'Matriz riesgos de gestión'!$A$73),"") | AF12: =IF(AND('Matriz riesgos de gestión'!$M$79="Muy Alta",'Matriz riesgos de gestión'!$Q$79="Mayor"),CONCATENATE("R",'Matriz riesgos de gestión'!$A$79),"") | AH12: =IF(AND('Matriz riesgos de gestión'!$M$67="Muy Alta",'Matriz riesgos de gestión'!$Q$67="Catastrófico"),CONCATENATE("R",'Matriz riesgos de gestión'!$A$67),"") | AJ12: =IF(AND('Matriz riesgos de gestión'!$M$73="Muy Alta",'Matriz riesgos de gestión'!$Q$73="Catastrófico"),CONCATENATE("R",'Matriz riesgos de gestión'!$A$73),"") | AL12: =IF(AND('Matriz riesgos de gestión'!$M$79="Muy Alta",'Matriz riesgos de gestión'!$Q$79="Catastrófico"),CONCATENATE("R",'Matriz riesgos de gestión'!$A$79),"")
E14: Alta 80% | J14: =IF(AND('Matriz riesgos de gestión'!$M$4="Alta",'Matriz riesgos de gestión'!$Q$4="Leve"),CONCATENATE("R",'Matriz riesgos de gestión'!$A$4),"") | L14: =IF(AND('Matriz riesgos de gestión'!$M$15="Alta",'Matriz riesgos de gestión'!$Q$15="Leve"),CONCATENATE("R",'Matriz riesgos de gestión'!$A$15),"") | N14: =IF(AND('Matriz riesgos de gestión'!$M$25="Alta",'Matriz riesgos de gestión'!$Q$25="Leve"),CONCATENATE("R",'Matriz riesgos de gestión'!$A$25),"") | P14: =IF(AND('Matriz riesgos de gestión'!$M$4="Alta",'Matriz riesgos de gestión'!$Q$4="Menor"),CONCATENATE("R",'Matriz riesgos de gestión'!$A$4),"") | R14: =IF(AND('Matriz riesgos de gestión'!$M$15="Alta",'Matriz riesgos de gestión'!$Q$15="Menor"),CONCATENATE("R",'Matriz riesgos de gestión'!$A$15),"") | T14: =IF(AND('Matriz riesgos de gestión'!$M$25="Alta",'Matriz riesgos de gestión'!$Q$25="Menor"),CONCATENATE("R",'Matriz riesgos de gestión'!$A$25),"") | V14: =IF(AND('Matriz riesgos de gestión'!$M$4="Alta",'Matriz riesgos de gestión'!$Q$4="Moderado"),CONCATENATE("R",'Matriz riesgos de gestión'!$A$4),"") | X14: =IF(AND('Matriz riesgos de gestión'!$M$15="Alta",'Matriz riesgos de gestión'!$Q$15="Moderado"),CONCATENATE("R",'Matriz riesgos de gestión'!$A$15),"") | Z14: =IF(AND('Matriz riesgos de gestión'!$M$25="Alta",'Matriz riesgos de gestión'!$Q$25="Moderado"),CONCATENATE("R",'Matriz riesgos de gestión'!$A$25),"") | AB14: =IF(AND('Matriz riesgos de gestión'!$M$4="Alta",'Matriz riesgos de gestión'!$Q$4="Mayor"),CONCATENATE("R",'Matriz riesgos de gestión'!$A$4),"") | AD14: =IF(AND('Matriz riesgos de gestión'!$M$15="Alta",'Matriz riesgos de gestión'!$Q$15="Mayor"),CONCATENATE("R",'Matriz riesgos de gestión'!$A$15),"") | AF14: =IF(AND('Matriz riesgos de gestión'!$M$25="Alta",'Matriz riesgos de gestión'!$Q$25="Mayor"),CONCATENATE("R",'Matriz riesgos de gestión'!$A$25),"") | AH14: =IF(AND('Matriz riesgos de gestión'!$M$4="Alta",'Matriz riesgos de gestión'!$Q$4="Catastrófico"),CONCATENATE("R",'Matriz riesgos de gestión'!$A$4),"") | AJ14: =IF(AND('Matriz riesgos de gestión'!$M$15="Alta",'Matriz riesgos de gestión'!$Q$15="Catastrófico"),CONCATENATE("R",'Matriz riesgos de gestión'!$A$15),"") | AL14: =IF(AND('Matriz riesgos de gestión'!$M$25="Alta",'Matriz riesgos de gestión'!$Q$25="Catastrófico"),CONCATENATE("R",'Matriz riesgos de gestión'!$A$25),"") | AO14: Alto
J16: =IF(AND('Matriz riesgos de gestión'!$M$31="Alta",'Matriz riesgos de gestión'!$Q$31="Leve"),CONCATENATE("R",'Matriz riesgos de gestión'!$A$31),"") | L16: =IF(AND('Matriz riesgos de gestión'!$M$37="Alta",'Matriz riesgos de gestión'!$Q$37="Leve"),CONCATENATE("R",'Matriz riesgos de gestión'!$A$37),"") | N16: =IF(AND('Matriz riesgos de gestión'!$M$43="Alta",'Matriz riesgos de gestión'!$Q$43="Leve"),CONCATENATE("R",'Matriz riesgos de gestión'!$A$43),"") | P16: =IF(AND('Matriz riesgos de gestión'!$M$31="Alta",'Matriz riesgos de gestión'!$Q$31="Menor"),CONCATENATE("R",'Matriz riesgos de gestión'!$A$31),"") | R16: =IF(AND('Matriz riesgos de gestión'!$M$37="Alta",'Matriz riesgos de gestión'!$Q$37="Menor"),CONCATENATE("R",'Matriz riesgos de gestión'!$A$37),"") | T16: =IF(AND('Matriz riesgos de gestión'!$M$43="Alta",'Matriz riesgos de gestión'!$Q$43="Menor"),CONCATENATE("R",'Matriz riesgos de gestión'!$A$43),"") | V16: =IF(AND('Matriz riesgos de gestión'!$M$31="Alta",'Matriz riesgos de gestión'!$Q$31="Moderado"),CONCATENATE("R",'Matriz riesgos de gestión'!$A$31),"") | X16: =IF(AND('Matriz riesgos de gestión'!$M$37="Alta",'Matriz riesgos de gestión'!$Q$37="Moderado"),CONCATENATE("R",'Matriz riesgos de gestión'!$A$37),"") | Z16: =IF(AND('Matriz riesgos de gestión'!$M$43="Alta",'Matriz riesgos de gestión'!$Q$43="Moderado"),CONCATENATE("R",'Matriz riesgos de gestión'!$A$43),"") -> R17 | AB16: =IF(AND('Matriz riesgos de gestión'!$M$31="Alta",'Matriz riesgos de gestión'!$Q$31="Mayor"),CONCATENATE("R",'Matriz riesgos de gestión'!$A$31),"") | AD16: =IF(AND('Matriz riesgos de gestión'!$M$37="Alta",'Matriz riesgos de gestión'!$Q$37="Mayor"),CONCATENATE("R",'Matriz riesgos de gestión'!$A$37),"") | AF16: =IF(AND('Matriz riesgos de gestión'!$M$43="Alta",'Matriz riesgos de gestión'!$Q$43="Mayor"),CONCATENATE("R",'Matriz riesgos de gestión'!$A$43),"") | AH16: =IF(AND('Matriz riesgos de gestión'!$M$31="Alta",'Matriz riesgos de gestión'!$Q$31="Catastrófico"),CONCATENATE("R",'Matriz riesgos de gestión'!$A$31),"") | AJ16: =IF(AND('Matriz riesgos de gestión'!$M$37="Alta",'Matriz riesgos de gestión'!$Q$37="Catastrófico"),CONCATENATE("R",'Matriz riesgos de gestión'!$A$37),"") | AL16: =IF(AND('Matriz riesgos de gestión'!$M$43="Alta",'Matriz riesgos de gestión'!$Q$43="Catastrófico"),CONCATENATE("R",'Matriz riesgos de gestión'!$A$43),"")
J18: =IF(AND('Matriz riesgos de gestión'!$M$49="Alta",'Matriz riesgos de gestión'!$Q$49="Leve"),CONCATENATE("R",'Matriz riesgos de gestión'!$A$49),"") | L18: =IF(AND('Matriz riesgos de gestión'!$M$55="Alta",'Matriz riesgos de gestión'!$Q$55="Leve"),CONCATENATE("R",'Matriz riesgos de gestión'!$A$55),"") | N18: =IF(AND('Matriz riesgos de gestión'!$M$61="Alta",'Matriz riesgos de gestión'!$Q$61="Leve"),CONCATENATE("R",'Matriz riesgos de gestión'!$A$61),"") | P18: =IF(AND('Matriz riesgos de gestión'!$M$49="Alta",'Matriz riesgos de gestión'!$Q$49="Menor"),CONCATENATE("R",'Matriz riesgos de gestión'!$A$49),"") | R18: =IF(AND('Matriz riesgos de gestión'!$M$55="Alta",'Matriz riesgos de gestión'!$Q$55="Menor"),CONCATENATE("R",'Matriz riesgos de gestión'!$A$55),"") | T18: =IF(AND('Matriz riesgos de gestión'!$M$61="Alta",'Matriz riesgos de gestión'!$Q$61="Menor"),CONCATENATE("R",'Matriz riesgos de gestión'!$A$61),"") | V18: =IF(AND('Matriz riesgos de gestión'!$M$49="Alta",'Matriz riesgos de gestión'!$Q$49="Moderado"),CONCATENATE("R",'Matriz riesgos de gestión'!$A$49),"") -> R21 | X18: =IF(AND('Matriz riesgos de gestión'!$M$55="Alta",'Matriz riesgos de gestión'!$Q$55="Moderado"),CONCATENATE("R",'Matriz riesgos de gestión'!$A$55),"") | Z18: =IF(AND('Matriz riesgos de gestión'!$M$61="Alta",'Matriz riesgos de gestión'!$Q$61="Moderado"),CONCATENATE("R",'Matriz riesgos de gestión'!$A$61),"") | AB18: =IF(AND('Matriz riesgos de gestión'!$M$49="Alta",'Matriz riesgos de gestión'!$Q$49="Mayor"),CONCATENATE("R",'Matriz riesgos de gestión'!$A$49),"") | AD18: =IF(AND('Matriz riesgos de gestión'!$M$55="Alta",'Matriz riesgos de gestión'!$Q$55="Mayor"),CONCATENATE("R",'Matriz riesgos de gestión'!$A$55),"") | AF18: =IF(AND('Matriz riesgos de gestión'!$M$61="Alta",'Matriz riesgos de gestión'!$Q$61="Mayor"),CONCATENATE("R",'Matriz riesgos de gestión'!$A$61),"") | AH18: =IF(AND('Matriz riesgos de gestión'!$M$49="Alta",'Matriz riesgos de gestión'!$Q$49="Catastrófico"),CONCATENATE("R",'Matriz riesgos de gestión'!$A$49),"") | AJ18: =IF(AND('Matriz riesgos de gestión'!$M$55="Alta",'Matriz riesgos de gestión'!$Q$55="Catastrófico"),CONCATENATE("R",'Matriz riesgos de gestión'!$A$55),"") | AL18: =IF(AND('Matriz riesgos de gestión'!$M$61="Alta",'Matriz riesgos de gestión'!$Q$61="Catastrófico"),CONCATENATE("R",'Matriz riesgos de gestión'!$A$61),"")
J20: =IF(AND('Matriz riesgos de gestión'!$M$67="Alta",'Matriz riesgos de gestión'!$Q$67="Leve"),CONCATENATE("R",'Matriz riesgos de gestión'!$A$67),"") | L20: =IF(AND('Matriz riesgos de gestión'!$M$73="Alta",'Matriz riesgos de gestión'!$Q$73="Leve"),CONCATENATE("R",'Matriz riesgos de gestión'!$A$73),"") | N20: =IF(AND('Matriz riesgos de gestión'!$M$79="Alta",'Matriz riesgos de gestión'!$Q$79="Leve"),CONCATENATE("R",'Matriz riesgos de gestión'!$A$79),"") | P20: =IF(AND('Matriz riesgos de gestión'!$M$67="Alta",'Matriz riesgos de gestión'!$Q$67="Menor"),CONCATENATE("R",'Matriz riesgos de gestión'!$A$67),"") | R20: =IF(AND('Matriz riesgos de gestión'!$M$73="Alta",'Matriz riesgos de gestión'!$Q$73="Menor"),CONCATENATE("R",'Matriz riesgos de gestión'!$A$73),"") | T20: =IF(AND('Matriz riesgos de gestión'!$M$79="Alta",'Matriz riesgos de gestión'!$Q$79="Menor"),CONCATENATE("R",'Matriz riesgos de gestión'!$A$79),"") | V20: =IF(AND('Matriz riesgos de gestión'!$M$67="Alta",'Matriz riesgos de gestión'!$Q$67="Moderado"),CONCATENATE("R",'Matriz riesgos de gestión'!$A$67),"") | X20: =IF(AND('Matriz riesgos de gestión'!$M$73="Alta",'Matriz riesgos de gestión'!$Q$73="Moderado"),CONCATENATE("R",'Matriz riesgos de gestión'!$A$73),"") | Z20: =IF(AND('Matriz riesgos de gestión'!$M$79="Alta",'Matriz riesgos de gestión'!$Q$79="Moderado"),CONCATENATE("R",'Matriz riesgos de gestión'!$A$79),"") | AB20: =IF(AND('Matriz riesgos de gestión'!$M$67="Alta",'Matriz riesgos de gestión'!$Q$67="Mayor"),CONCATENATE("R",'Matriz riesgos de gestión'!$A$67),"") | AD20: =IF(AND('Matriz riesgos de gestión'!$M$73="Alta",'Matriz riesgos de gestión'!$Q$73="Mayor"),CONCATENATE("R",'Matriz riesgos de gestión'!$A$73),"") | AF20: =IF(AND('Matriz riesgos de gestión'!$M$79="Alta",'Matriz riesgos de gestión'!$Q$79="Mayor"),CONCATENATE("R",'Matriz riesgos de gestión'!$A$79),"") | AH20: =IF(AND('Matriz riesgos de gestión'!$M$67="Alta",'Matriz riesgos de gestión'!$Q$67="Catastrófico"),CONCATENATE("R",'Matriz riesgos de gestión'!$A$67),"") | AJ20: =IF(AND('Matriz riesgos de gestión'!$M$73="Alta",'Matriz riesgos de gestión'!$Q$73="Catastrófico"),CONCATENATE("R",'Matriz riesgos de gestión'!$A$73),"") | AL20: =IF(AND('Matriz riesgos de gestión'!$M$79="Alta",'Matriz riesgos de gestión'!$Q$79="Catastrófico"),CONCATENATE("R",'Matriz riesgos de gestión'!$A$79),"")
E22: Media 60% | J22: =IF(AND('Matriz riesgos de gestión'!$M$4="Media",'Matriz riesgos de gestión'!$Q$4="Leve"),CONCATENATE("R",'Matriz riesgos de gestión'!$A$4),"") | L22: =IF(AND('Matriz riesgos de gestión'!$M$15="Media",'Matriz riesgos de gestión'!$Q$15="Leve"),CONCATENATE("R",'Matriz riesgos de gestión'!$A$15),"") | N22: =IF(AND('Matriz riesgos de gestión'!$M$25="Media",'Matriz riesgos de gestión'!$Q$25="Leve"),CONCATENATE("R",'Matriz riesgos de gestión'!$A$25),"") | P22: =IF(AND('Matriz riesgos de gestión'!$M$4="Media",'Matriz riesgos de gestión'!$Q$4="Menor"),CONCATENATE("R",'Matriz riesgos de gestión'!$A$4),"") -> R1 | R22: =IF(AND('Matriz riesgos de gestión'!$M$15="Media",'Matriz riesgos de gestión'!$Q$15="Menor"),CONCATENATE("R",'Matriz riesgos de gestión'!$A$15),"") | T22: =IF(AND('Matriz riesgos de gestión'!$M$25="Media",'Matriz riesgos de gestión'!$Q$25="Menor"),CONCATENATE("R",'Matriz riesgos de gestión'!$A$25),"") | V22: =IF(AND('Matriz riesgos de gestión'!$M$4="Media",'Matriz riesgos de gestión'!$Q$4="Moderado"),CONCATENATE("R",'Matriz riesgos de gestión'!$A$4),"") | X22: =IF(AND('Matriz riesgos de gestión'!$M$15="Media",'Matriz riesgos de gestión'!$Q$15="Moderado"),CONCATENATE("R",'Matriz riesgos de gestión'!$A$15),"") | Z22: =IF(AND('Matriz riesgos de gestión'!$M$25="Media",'Matriz riesgos de gestión'!$Q$25="Moderado"),CONCATENATE("R",'Matriz riesgos de gestión'!$A$25),"") -> R9 | AB22: =IF(AND('Matriz riesgos de gestión'!$M$4="Media",'Matriz riesgos de gestión'!$Q$4="Mayor"),CONCATENATE("R",'Matriz riesgos de gestión'!$A$4),"") | AD22: =IF(AND('Matriz riesgos de gestión'!$M$15="Media",'Matriz riesgos de gestión'!$Q$15="Mayor"),CONCATENATE("R",'Matriz riesgos de gestión'!$A$15),"") -> R6 | AF22: =IF(AND('Matriz riesgos de gestión'!$M$25="Media",'Matriz riesgos de gestión'!$Q$25="Mayor"),CONCATENATE("R",'Matriz riesgos de gestión'!$A$25),"") | AH22: =IF(AND('Matriz riesgos de gestión'!$M$4="Media",'Matriz riesgos de gestión'!$Q$4="Catastrófico"),CONCATENATE("R",'Matriz riesgos de gestión'!$A$4),"") | AJ22: =IF(AND('Matriz riesgos de gestión'!$M$15="Media",'Matriz riesgos de gestión'!$Q$15="Catastrófico"),CONCATENATE("R",'Matriz riesgos de gestión'!$A$15),"") | AL22: =IF(AND('Matriz riesgos de gestión'!$M$25="Media",'Matriz riesgos de gestión'!$Q$25="Catastrófico"),CONCATENATE("R",'Matriz riesgos de gestión'!$A$25),"") | AO22: Moderado
J24: =IF(AND('Matriz riesgos de gestión'!$M$31="Media",'Matriz riesgos de gestión'!$Q$31="Leve"),CONCATENATE("R",'Matriz riesgos de gestión'!$A$31),"") | L24: =IF(AND('Matriz riesgos de gestión'!$M$37="Media",'Matriz riesgos de gestión'!$Q$37="Leve"),CONCATENATE("R",'Matriz riesgos de gestión'!$A$37),"") | N24: =IF(AND('Matriz riesgos de gestión'!$M$43="Media",'Matriz riesgos de gestión'!$Q$43="Leve"),CONCATENATE("R",'Matriz riesgos de gestión'!$A$43),"") | P24: =IF(AND('Matriz riesgos de gestión'!$M$31="Media",'Matriz riesgos de gestión'!$Q$31="Menor"),CONCATENATE("R",'Matriz riesgos de gestión'!$A$31),"") | R24: =IF(AND('Matriz riesgos de gestión'!$M$37="Media",'Matriz riesgos de gestión'!$Q$37="Menor"),CONCATENATE("R",'Matriz riesgos de gestión'!$A$37),"") | T24: =IF(AND('Matriz riesgos de gestión'!$M$43="Media",'Matriz riesgos de gestión'!$Q$43="Menor"),CONCATENATE("R",'Matriz riesgos de gestión'!$A$43),"") | V24: =IF(AND('Matriz riesgos de gestión'!$M$31="Media",'Matriz riesgos de gestión'!$Q$31="Moderado"),CONCATENATE("R",'Matriz riesgos de gestión'!$A$31),"") | X24: =IF(AND('Matriz riesgos de gestión'!$M$37="Media",'Matriz riesgos de gestión'!$Q$37="Moderado"),CONCATENATE("R",'Matriz riesgos de gestión'!$A$37),"") -> R14 | Z24: =IF(AND('Matriz riesgos de gestión'!$M$43="Media",'Matriz riesgos de gestión'!$Q$43="Moderado"),CONCATENATE("R",'Matriz riesgos de gestión'!$A$43),"") | AB24: =IF(AND('Matriz riesgos de gestión'!$M$31="Media",'Matriz riesgos de gestión'!$Q$31="Mayor"),CONCATENATE("R",'Matriz riesgos de gestión'!$A$31),"") | AD24: =IF(AND('Matriz riesgos de gestión'!$M$37="Media",'Matriz riesgos de gestión'!$Q$37="Mayor"),CONCATENATE("R",'Matriz riesgos de gestión'!$A$37),"") | AF24: =IF(AND('Matriz riesgos de gestión'!$M$43="Media",'Matriz riesgos de gestión'!$Q$43="Mayor"),CONCATENATE("R",'Matriz riesgos de gestión'!$A$43),"") | AH24: =IF(AND('Matriz riesgos de gestión'!$M$31="Media",'Matriz riesgos de gestión'!$Q$31="Catastrófico"),CONCATENATE("R",'Matriz riesgos de gestión'!$A$31),"") | AJ24: =IF(AND('Matriz riesgos de gestión'!$M$37="Media",'Matriz riesgos de gestión'!$Q$37="Catastrófico"),CONCATENATE("R",'Matriz riesgos de gestión'!$A$37),"") | AL24: =IF(AND('Matriz riesgos de gestión'!$M$43="Media",'Matriz riesgos de gestión'!$Q$43="Catastrófico"),CONCATENATE("R",'Matriz riesgos de gestión'!$A$43),"")
J26: =IF(AND('Matriz riesgos de gestión'!$M$49="Media",'Matriz riesgos de gestión'!$Q$49="Leve"),CONCATENATE("R",'Matriz riesgos de gestión'!$A$49),"") | L26: =IF(AND('Matriz riesgos de gestión'!$M$55="Media",'Matriz riesgos de gestión'!$Q$55="Leve"),CONCATENATE("R",'Matriz riesgos de gestión'!$A$55),"") | N26: =IF(AND('Matriz riesgos de gestión'!$M$61="Media",'Matriz riesgos de gestión'!$Q$61="Leve"),CONCATENATE("R",'Matriz riesgos de gestión'!$A$61),"") | P26: =IF(AND('Matriz riesgos de gestión'!$M$49="Media",'Matriz riesgos de gestión'!$Q$49="Menor"),CONCATENATE("R",'Matriz riesgos de gestión'!$A$49),"") | R26: =IF(AND('Matriz riesgos de gestión'!$M$55="Media",'Matriz riesgos de gestión'!$Q$55="Menor"),CONCATENATE("R",'Matriz riesgos de gestión'!$A$55),"") | T26: =IF(AND('Matriz riesgos de gestión'!$M$61="Media",'Matriz riesgos de gestión'!$Q$61="Menor"),CONCATENATE("R",'Matriz riesgos de gestión'!$A$61),"") | V26: =IF(AND('Matriz riesgos de gestión'!$M$49="Media",'Matriz riesgos de gestión'!$Q$49="Moderado"),CONCATENATE("R",'Matriz riesgos de gestión'!$A$49),"") | X26: =IF(AND('Matriz riesgos de gestión'!$M$55="Media",'Matriz riesgos de gestión'!$Q$55="Moderado"),CONCATENATE("R",'Matriz riesgos de gestión'!$A$55),"") | Z26: =IF(AND('Matriz riesgos de gestión'!$M$61="Media",'Matriz riesgos de gestión'!$Q$61="Moderado"),CONCATENATE("R",'Matriz riesgos de gestión'!$A$61),"") -> R30 | AB26: =IF(AND('Matriz riesgos de gestión'!$M$49="Media",'Matriz riesgos de gestión'!$Q$49="Mayor"),CONCATENATE("R",'Matriz riesgos de gestión'!$A$49),"") | AD26: =IF(AND('Matriz riesgos de gestión'!$M$55="Media",'Matriz riesgos de gestión'!$Q$55="Mayor"),CONCATENATE("R",'Matriz riesgos de gestión'!$A$55),"") | AF26: =IF(AND('Matriz riesgos de gestión'!$M$61="Media",'Matriz riesgos de gestión'!$Q$61="Mayor"),CONCATENATE("R",'Matriz riesgos de gestión'!$A$61),"") | AH26: =IF(AND('Matriz riesgos de gestión'!$M$49="Media",'Matriz riesgos de gestión'!$Q$49="Catastrófico"),CONCATENATE("R",'Matriz riesgos de gestión'!$A$49),"") | AJ26: =IF(AND('Matriz riesgos de gestión'!$M$55="Media",'Matriz riesgos de gestión'!$Q$55="Catastrófico"),CONCATENATE("R",'Matriz riesgos de gestión'!$A$55),"") | AL26: =IF(AND('Matriz riesgos de gestión'!$M$61="Media",'Matriz riesgos de gestión'!$Q$61="Catastrófico"),CONCATENATE("R",'Matriz riesgos de gestión'!$A$61),"")
J28: =IF(AND('Matriz riesgos de gestión'!$M$67="Media",'Matriz riesgos de gestión'!$Q$67="Leve"),CONCATENATE("R",'Matriz riesgos de gestión'!$A$67),"") | L28: =IF(AND('Matriz riesgos de gestión'!$M$73="Media",'Matriz riesgos de gestión'!$Q$73="Leve"),CONCATENATE("R",'Matriz riesgos de gestión'!$A$73),"") | N28: =IF(AND('Matriz riesgos de gestión'!$M$79="Media",'Matriz riesgos de gestión'!$Q$79="Leve"),CONCATENATE("R",'Matriz riesgos de gestión'!$A$79),"") | P28: =IF(AND('Matriz riesgos de gestión'!$M$67="Media",'Matriz riesgos de gestión'!$Q$67="Menor"),CONCATENATE("R",'Matriz riesgos de gestión'!$A$67),"") | R28: =IF(AND('Matriz riesgos de gestión'!$M$73="Media",'Matriz riesgos de gestión'!$Q$73="Menor"),CONCATENATE("R",'Matriz riesgos de gestión'!$A$73),"") | T28: =IF(AND('Matriz riesgos de gestión'!$M$79="Media",'Matriz riesgos de gestión'!$Q$79="Menor"),CONCATENATE("R",'Matriz riesgos de gestión'!$A$79),"") | V28: =IF(AND('Matriz riesgos de gestión'!$M$67="Media",'Matriz riesgos de gestión'!$Q$67="Moderado"),CONCATENATE("R",'Matriz riesgos de gestión'!$A$67),"") | X28: =IF(AND('Matriz riesgos de gestión'!$M$73="Media",'Matriz riesgos de gestión'!$Q$73="Moderado"),CONCATENATE("R",'Matriz riesgos de gestión'!$A$73),"") | Z28: =IF(AND('Matriz riesgos de gestión'!$M$79="Media",'Matriz riesgos de gestión'!$Q$79="Moderado"),CONCATENATE("R",'Matriz riesgos de gestión'!$A$79),"") | AB28: =IF(AND('Matriz riesgos de gestión'!$M$67="Media",'Matriz riesgos de gestión'!$Q$67="Mayor"),CONCATENATE("R",'Matriz riesgos de gestión'!$A$67),"") | AD28: =IF(AND('Matriz riesgos de gestión'!$M$73="Media",'Matriz riesgos de gestión'!$Q$73="Mayor"),CONCATENATE("R",'Matriz riesgos de gestión'!$A$73),"") | AF28: =IF(AND('Matriz riesgos de gestión'!$M$79="Media",'Matriz riesgos de gestión'!$Q$79="Mayor"),CONCATENATE("R",'Matriz riesgos de gestión'!$A$79),"") | AH28: =IF(AND('Matriz riesgos de gestión'!$M$67="Media",'Matriz riesgos de gestión'!$Q$67="Catastrófico"),CONCATENATE("R",'Matriz riesgos de gestión'!$A$67),"") | AJ28: =IF(AND('Matriz riesgos de gestión'!$M$73="Media",'Matriz riesgos de gestión'!$Q$73="Catastrófico"),CONCATENATE("R",'Matriz riesgos de gestión'!$A$73),"") | AL28: =IF(AND('Matriz riesgos de gestión'!$M$79="Media",'Matriz riesgos de gestión'!$Q$79="Catastrófico"),CONCATENATE("R",'Matriz riesgos de gestión'!$A$79),"")
E30: Baja 40% | J30: =IF(AND('Matriz riesgos de gestión'!$M$4="Baja",'Matriz riesgos de gestión'!$Q$4="Leve"),CONCATENATE("R",'Matriz riesgos de gestión'!$A$4),"") | L30: =IF(AND('Matriz riesgos de gestión'!$M$15="Baja",'Matriz riesgos de gestión'!$Q$15="Leve"),CONCATENATE("R",'Matriz riesgos de gestión'!$A$15),"") | N30: =IF(AND('Matriz riesgos de gestión'!$M$25="Baja",'Matriz riesgos de gestión'!$Q$25="Leve"),CONCATENATE("R",'Matriz riesgos de gestión'!$A$25),"") | P30: =IF(AND('Matriz riesgos de gestión'!$M$4="Baja",'Matriz riesgos de gestión'!$Q$4="Menor"),CONCATENATE("R",'Matriz riesgos de gestión'!$A$4),"") | R30: =IF(AND('Matriz riesgos de gestión'!$M$15="Baja",'Matriz riesgos de gestión'!$Q$15="Menor"),CONCATENATE("R",'Matriz riesgos de gestión'!$A$15),"") | T30: =IF(AND('Matriz riesgos de gestión'!$M$25="Baja",'Matriz riesgos de gestión'!$Q$25="Menor"),CONCATENATE("R",'Matriz riesgos de gestión'!$A$25),"") | V30: =IF(AND('Matriz riesgos de gestión'!$M$4="Baja",'Matriz riesgos de gestión'!$Q$4="Moderado"),CONCATENATE("R",'Matriz riesgos de gestión'!$A$4),"") | X30: =IF(AND('Matriz riesgos de gestión'!$M$15="Baja",'Matriz riesgos de gestión'!$Q$15="Moderado"),CONCATENATE("R",'Matriz riesgos de gestión'!$A$15),"") | Z30: =IF(AND('Matriz riesgos de gestión'!$M$25="Baja",'Matriz riesgos de gestión'!$Q$25="Moderado"),CONCATENATE("R",'Matriz riesgos de gestión'!$A$25),"") | AB30: =IF(AND('Matriz riesgos de gestión'!$M$4="Baja",'Matriz riesgos de gestión'!$Q$4="Mayor"),CONCATENATE("R",'Matriz riesgos de gestión'!$A$4),"") | AD30: =IF(AND('Matriz riesgos de gestión'!$M$15="Baja",'Matriz riesgos de gestión'!$Q$15="Mayor"),CONCATENATE("R",'Matriz riesgos de gestión'!$A$15),"") | AF30: =IF(AND('Matriz riesgos de gestión'!$M$25="Baja",'Matriz riesgos de gestión'!$Q$25="Mayor"),CONCATENATE("R",'Matriz riesgos de gestión'!$A$25),"") | AH30: =IF(AND('Matriz riesgos de gestión'!$M$4="Baja",'Matriz riesgos de gestión'!$Q$4="Catastrófico"),CONCATENATE("R",'Matriz riesgos de gestión'!$A$4),"") | AJ30: =IF(AND('Matriz riesgos de gestión'!$M$15="Baja",'Matriz riesgos de gestión'!$Q$15="Catastrófico"),CONCATENATE("R",'Matriz riesgos de gestión'!$A$15),"") | AL30: =IF(AND('Matriz riesgos de gestión'!$M$25="Baja",'Matriz riesgos de gestión'!$Q$25="Catastrófico"),CONCATENATE("R",'Matriz riesgos de gestión'!$A$25),"") | AO30: Bajo
J32: =IF(AND('Matriz riesgos de gestión'!$M$31="Baja",'Matriz riesgos de gestión'!$Q$31="Leve"),CONCATENATE("R",'Matriz riesgos de gestión'!$A$31),"") | L32: =IF(AND('Matriz riesgos de gestión'!$M$37="Baja",'Matriz riesgos de gestión'!$Q$37="Leve"),CONCATENATE("R",'Matriz riesgos de gestión'!$A$37),"") | N32: =IF(AND('Matriz riesgos de gestión'!$M$43="Baja",'Matriz riesgos de gestión'!$Q$43="Leve"),CONCATENATE("R",'Matriz riesgos de gestión'!$A$43),"") | P32: =IF(AND('Matriz riesgos de gestión'!$M$31="Baja",'Matriz riesgos de gestión'!$Q$31="Menor"),CONCATENATE("R",'Matriz riesgos de gestión'!$A$31),"") | R32: =IF(AND('Matriz riesgos de gestión'!$M$37="Baja",'Matriz riesgos de gestión'!$Q$37="Menor"),CONCATENATE("R",'Matriz riesgos de gestión'!$A$37),"") | T32: =IF(AND('Matriz riesgos de gestión'!$M$43="Baja",'Matriz riesgos de gestión'!$Q$43="Menor"),CONCATENATE("R",'Matriz riesgos de gestión'!$A$43),"") | V32: =IF(AND('Matriz riesgos de gestión'!$M$31="Baja",'Matriz riesgos de gestión'!$Q$31="Moderado"),CONCATENATE("R",'Matriz riesgos de gestión'!$A$31),"") -> R11 | X32: =IF(AND('Matriz riesgos de gestión'!$M$37="Baja",'Matriz riesgos de gestión'!$Q$37="Moderado"),CONCATENATE("R",'Matriz riesgos de gestión'!$A$37),"") | Z32: =IF(AND('Matriz riesgos de gestión'!$M$43="Baja",'Matriz riesgos de gestión'!$Q$43="Moderado"),CONCATENATE("R",'Matriz riesgos de gestión'!$A$43),"") | AB32: =IF(AND('Matriz riesgos de gestión'!$M$31="Baja",'Matriz riesgos de gestión'!$Q$31="Mayor"),CONCATENATE("R",'Matriz riesgos de gestión'!$A$31),"") | AD32: =IF(AND('Matriz riesgos de gestión'!$M$37="Baja",'Matriz riesgos de gestión'!$Q$37="Mayor"),CONCATENATE("R",'Matriz riesgos de gestión'!$A$37),"") | AF32: =IF(AND('Matriz riesgos de gestión'!$M$43="Baja",'Matriz riesgos de gestión'!$Q$43="Mayor"),CONCATENATE("R",'Matriz riesgos de gestión'!$A$43),"") | AH32: =IF(AND('Matriz riesgos de gestión'!$M$31="Baja",'Matriz riesgos de gestión'!$Q$31="Catastrófico"),CONCATENATE("R",'Matriz riesgos de gestión'!$A$31),"") | AJ32: =IF(AND('Matriz riesgos de gestión'!$M$37="Baja",'Matriz riesgos de gestión'!$Q$37="Catastrófico"),CONCATENATE("R",'Matriz riesgos de gestión'!$A$37),"") | AL32: =IF(AND('Matriz riesgos de gestión'!$M$43="Baja",'Matriz riesgos de gestión'!$Q$43="Catastrófico"),CONCATENATE("R",'Matriz riesgos de gestión'!$A$43),"")
J34: =IF(AND('Matriz riesgos de gestión'!$M$49="Baja",'Matriz riesgos de gestión'!$Q$49="Leve"),CONCATENATE("R",'Matriz riesgos de gestión'!$A$49),"") | L34: =IF(AND('Matriz riesgos de gestión'!$M$55="Baja",'Matriz riesgos de gestión'!$Q$55="Leve"),CONCATENATE("R",'Matriz riesgos de gestión'!$A$55),"") | N34: =IF(AND('Matriz riesgos de gestión'!$M$61="Baja",'Matriz riesgos de gestión'!$Q$61="Leve"),CONCATENATE("R",'Matriz riesgos de gestión'!$A$61),"") | P34: =IF(AND('Matriz riesgos de gestión'!$M$49="Baja",'Matriz riesgos de gestión'!$Q$49="Menor"),CONCATENATE("R",'Matriz riesgos de gestión'!$A$49),"") | R34: =IF(AND('Matriz riesgos de gestión'!$M$55="Baja",'Matriz riesgos de gestión'!$Q$55="Menor"),CONCATENATE("R",'Matriz riesgos de gestión'!$A$55),"") | T34: =IF(AND('Matriz riesgos de gestión'!$M$61="Baja",'Matriz riesgos de gestión'!$Q$61="Menor"),CONCATENATE("R",'Matriz riesgos de gestión'!$A$61),"") | V34: =IF(AND('Matriz riesgos de gestión'!$M$49="Baja",'Matriz riesgos de gestión'!$Q$49="Moderado"),CONCATENATE("R",'Matriz riesgos de gestión'!$A$49),"") | X34: =IF(AND('Matriz riesgos de gestión'!$M$55="Baja",'Matriz riesgos de gestión'!$Q$55="Moderado"),CONCATENATE("R",'Matriz riesgos de gestión'!$A$55),"") | Z34: =IF(AND('Matriz riesgos de gestión'!$M$61="Baja",'Matriz riesgos de gestión'!$Q$61="Moderado"),CONCATENATE("R",'Matriz riesgos de gestión'!$A$61),"") | AB34: =IF(AND('Matriz riesgos de gestión'!$M$49="Baja",'Matriz riesgos de gestión'!$Q$49="Mayor"),CONCATENATE("R",'Matriz riesgos de gestión'!$A$49),"") | AD34: =IF(AND('Matriz riesgos de gestión'!$M$55="Baja",'Matriz riesgos de gestión'!$Q$55="Mayor"),CONCATENATE("R",'Matriz riesgos de gestión'!$A$55),"") | AF34: =IF(AND('Matriz riesgos de gestión'!$M$61="Baja",'Matriz riesgos de gestión'!$Q$61="Mayor"),CONCATENATE("R",'Matriz riesgos de gestión'!$A$61),"") | AH34: =IF(AND('Matriz riesgos de gestión'!$M$49="Baja",'Matriz riesgos de gestión'!$Q$49="Catastrófico"),CONCATENATE("R",'Matriz riesgos de gestión'!$A$49),"") | AJ34: =IF(AND('Matriz riesgos de gestión'!$M$55="Baja",'Matriz riesgos de gestión'!$Q$55="Catastrófico"),CONCATENATE("R",'Matriz riesgos de gestión'!$A$55),"") | AL34: =IF(AND('Matriz riesgos de gestión'!$M$61="Baja",'Matriz riesgos de gestión'!$Q$61="Catastrófico"),CONCATENATE("R",'Matriz riesgos de gestión'!$A$61),"")
J36: =IF(AND('Matriz riesgos de gestión'!$M$67="Baja",'Matriz riesgos de gestión'!$Q$67="Leve"),CONCATENATE("R",'Matriz riesgos de gestión'!$A$67),"") | L36: =IF(AND('Matriz riesgos de gestión'!$M$73="Baja",'Matriz riesgos de gestión'!$Q$73="Leve"),CONCATENATE("R",'Matriz riesgos de gestión'!$A$73),"") | N36: =IF(AND('Matriz riesgos de gestión'!$M$79="Baja",'Matriz riesgos de gestión'!$Q$79="Leve"),CONCATENATE("R",'Matriz riesgos de gestión'!$A$79),"") | P36: =IF(AND('Matriz riesgos de gestión'!$M$67="Baja",'Matriz riesgos de gestión'!$Q$67="Menor"),CONCATENATE("R",'Matriz riesgos de gestión'!$A$67),"") | R36: =IF(AND('Matriz riesgos de gestión'!$M$73="Baja",'Matriz riesgos de gestión'!$Q$73="Menor"),CONCATENATE("R",'Matriz riesgos de gestión'!$A$73),"") | T36: =IF(AND('Matriz riesgos de gestión'!$M$79="Baja",'Matriz riesgos de gestión'!$Q$79="Menor"),CONCATENATE("R",'Matriz riesgos de gestión'!$A$79),"") | V36: =IF(AND('Matriz riesgos de gestión'!$M$67="Baja",'Matriz riesgos de gestión'!$Q$67="Moderado"),CONCATENATE("R",'Matriz riesgos de gestión'!$A$67),"") | X36: =IF(AND('Matriz riesgos de gestión'!$M$73="Baja",'Matriz riesgos de gestión'!$Q$73="Moderado"),CONCATENATE("R",'Matriz riesgos de gestión'!$A$73),"") -> R33 | Z36: =IF(AND('Matriz riesgos de gestión'!$M$79="Baja",'Matriz riesgos de gestión'!$Q$79="Moderado"),CONCATENATE("R",'Matriz riesgos de gestión'!$A$79),"") | AB36: =IF(AND('Matriz riesgos de gestión'!$M$67="Baja",'Matriz riesgos de gestión'!$Q$67="Mayor"),CONCATENATE("R",'Matriz riesgos de gestión'!$A$67),"") -> R31 | AD36: =IF(AND('Matriz riesgos de gestión'!$M$73="Baja",'Matriz riesgos de gestión'!$Q$73="Mayor"),CONCATENATE("R",'Matriz riesgos de gestión'!$A$73),"") | AF36: =IF(AND('Matriz riesgos de gestión'!$M$79="Baja",'Matriz riesgos de gestión'!$Q$79="Mayor"),CONCATENATE("R",'Matriz riesgos de gestión'!$A$79),"") | AH36: =IF(AND('Matriz riesgos de gestión'!$M$67="Baja",'Matriz riesgos de gestión'!$Q$67="Catastrófico"),CONCATENATE("R",'Matriz riesgos de gestión'!$A$67),"") | AJ36: =IF(AND('Matriz riesgos de gestión'!$M$73="Baja",'Matriz riesgos de gestión'!$Q$73="Catastrófico"),CONCATENATE("R",'Matriz riesgos de gestión'!$A$73),"") | AL36: =IF(AND('Matriz riesgos de gestión'!$M$79="Baja",'Matriz riesgos de gestión'!$Q$79="Catastrófico"),CONCATENATE("R",'Matriz riesgos de gestión'!$A$79),"") -> R36
E38: Muy Baja 20% | J38: =IF(AND('Matriz riesgos de gestión'!$M$4="Muy Baja",'Matriz riesgos de gestión'!$Q$4="Leve"),CONCATENATE("R",'Matriz riesgos de gestión'!$A$4),"") | L38: =IF(AND('Matriz riesgos de gestión'!$M$15="Muy Baja",'Matriz riesgos de gestión'!$Q$15="Leve"),CONCATENATE("R",'Matriz riesgos de gestión'!$A$15),"") | N38: =IF(AND('Matriz riesgos de gestión'!$M$25="Muy Baja",'Matriz riesgos de gestión'!$Q$25="Leve"),CONCATENATE("R",'Matriz riesgos de gestión'!$A$25),"") | P38: =IF(AND('Matriz riesgos de gestión'!$M$4="Muy Baja",'Matriz riesgos de gestión'!$Q$4="Menor"),CONCATENATE("R",'Matriz riesgos de gestión'!$A$4),"") | R38: =IF(AND('Matriz riesgos de gestión'!$M$15="Muy Baja",'Matriz riesgos de gestión'!$Q$15="Menor"),CONCATENATE("R",'Matriz riesgos de gestión'!$A$15),"") | T38: =IF(AND('Matriz riesgos de gestión'!$M$25="Muy Baja",'Matriz riesgos de gestión'!$Q$25="Menor"),CONCATENATE("R",'Matriz riesgos de gestión'!$A$25),"") | V38: =IF(AND('Matriz riesgos de gestión'!$M$4="Muy Baja",'Matriz riesgos de gestión'!$Q$4="Moderado"),CONCATENATE("R",'Matriz riesgos de gestión'!$A$4),"") | X38: =IF(AND('Matriz riesgos de gestión'!$M$15="Muy Baja",'Matriz riesgos de gestión'!$Q$15="Moderado"),CONCATENATE("R",'Matriz riesgos de gestión'!$A$15),"") | Z38: =IF(AND('Matriz riesgos de gestión'!$M$25="Muy Baja",'Matriz riesgos de gestión'!$Q$25="Moderado"),CONCATENATE("R",'Matriz riesgos de gestión'!$A$25),"") | AB38: =IF(AND('Matriz riesgos de gestión'!$M$4="Muy Baja",'Matriz riesgos de gestión'!$Q$4="Mayor"),CONCATENATE("R",'Matriz riesgos de gestión'!$A$4),"") | AD38: =IF(AND('Matriz riesgos de gestión'!$M$15="Muy Baja",'Matriz riesgos de gestión'!$Q$15="Mayor"),CONCATENATE("R",'Matriz riesgos de gestión'!$A$15),"") | AF38: =IF(AND('Matriz riesgos de gestión'!$M$25="Muy Baja",'Matriz riesgos de gestión'!$Q$25="Mayor"),CONCATENATE("R",'Matriz riesgos de gestión'!$A$25),"") | AH38: =IF(AND('Matriz riesgos de gestión'!$M$4="Muy Baja",'Matriz riesgos de gestión'!$Q$4="Catastrófico"),CONCATENATE("R",'Matriz riesgos de gestión'!$A$4),"") | AJ38: =IF(AND('Matriz riesgos de gestión'!$M$15="Muy Baja",'Matriz riesgos de gestión'!$Q$15="Catastrófico"),CONCATENATE("R",'Matriz riesgos de gestión'!$A$15),"") | AL38: =IF(AND('Matriz riesgos de gestión'!$M$25="Muy Baja",'Matriz riesgos de gestión'!$Q$25="Catastrófico"),CONCATENATE("R",'Matriz riesgos de gestión'!$A$25),"")
J40: =IF(AND('Matriz riesgos de gestión'!$M$31="Muy Baja",'Matriz riesgos de gestión'!$Q$31="Leve"),CONCATENATE("R",'Matriz riesgos de gestión'!$A$31),"") | L40: =IF(AND('Matriz riesgos de gestión'!$M$37="Muy Baja",'Matriz riesgos de gestión'!$Q$37="Leve"),CONCATENATE("R",'Matriz riesgos de gestión'!$A$37),"") | N40: =IF(AND('Matriz riesgos de gestión'!$M$43="Muy Baja",'Matriz riesgos de gestión'!$Q$43="Leve"),CONCATENATE("R",'Matriz riesgos de gestión'!$A$43),"") | P40: =IF(AND('Matriz riesgos de gestión'!$M$31="Muy Baja",'Matriz riesgos de gestión'!$Q$31="Menor"),CONCATENATE("R",'Matriz riesgos de gestión'!$A$31),"") | R40: =IF(AND('Matriz riesgos de gestión'!$M$37="Muy Baja",'Matriz riesgos de gestión'!$Q$37="Menor"),CONCATENATE("R",'Matriz riesgos de gestión'!$A$37),"") | T40: =IF(AND('Matriz riesgos de gestión'!$M$43="Muy Baja",'Matriz riesgos de gestión'!$Q$43="Menor"),CONCATENATE("R",'Matriz riesgos de gestión'!$A$43),"") | V40: =IF(AND('Matriz riesgos de gestión'!$M$31="Muy Baja",'Matriz riesgos de gestión'!$Q$31="Moderado"),CONCATENATE("R",'Matriz riesgos de gestión'!$A$31),"") | X40: =IF(AND('Matriz riesgos de gestión'!$M$37="Muy Baja",'Matriz riesgos de gestión'!$Q$37="Moderado"),CONCATENATE("R",'Matriz riesgos de gestión'!$A$37),"") | Z40: =IF(AND('Matriz riesgos de gestión'!$M$43="Muy Baja",'Matriz riesgos de gestión'!$Q$43="Moderado"),CONCATENATE("R",'Matriz riesgos de gestión'!$A$43),"") | AB40: =IF(AND('Matriz riesgos de gestión'!$M$31="Muy Baja",'Matriz riesgos de gestión'!$Q$31="Mayor"),CONCATENATE("R",'Matriz riesgos de gestión'!$A$31),"") | AD40: =IF(AND('Matriz riesgos de gestión'!$M$37="Muy Baja",'Matriz riesgos de gestión'!$Q$37="Mayor"),CONCATENATE("R",'Matriz riesgos de gestión'!$A$37),"") | AF40: =IF(AND('Matriz riesgos de gestión'!$M$43="Muy Baja",'Matriz riesgos de gestión'!$Q$43="Mayor"),CONCATENATE("R",'Matriz riesgos de gestión'!$A$43),"") | AH40: =IF(AND('Matriz riesgos de gestión'!$M$31="Muy Baja",'Matriz riesgos de gestión'!$Q$31="Catastrófico"),CONCATENATE("R",'Matriz riesgos de gestión'!$A$31),"") | AJ40: =IF(AND('Matriz riesgos de gestión'!$M$37="Muy Baja",'Matriz riesgos de gestión'!$Q$37="Catastrófico"),CONCATENATE("R",'Matriz riesgos de gestión'!$A$37),"") | AL40: =IF(AND('Matriz riesgos de gestión'!$M$43="Muy Baja",'Matriz riesgos de gestión'!$Q$43="Catastrófico"),CONCATENATE("R",'Matriz riesgos de gestión'!$A$43),"")
J42: =IF(AND('Matriz riesgos de gestión'!$M$49="Muy Baja",'Matriz riesgos de gestión'!$Q$49="Leve"),CONCATENATE("R",'Matriz riesgos de gestión'!$A$49),"") | L42: =IF(AND('Matriz riesgos de gestión'!$M$55="Muy Baja",'Matriz riesgos de gestión'!$Q$55="Leve"),CONCATENATE("R",'Matriz riesgos de gestión'!$A$55),"") | N42: =IF(AND('Matriz riesgos de gestión'!$M$61="Muy Baja",'Matriz riesgos de gestión'!$Q$61="Leve"),CONCATENATE("R",'Matriz riesgos de gestión'!$A$61),"") | P42: =IF(AND('Matriz riesgos de gestión'!$M$49="Muy Baja",'Matriz riesgos de gestión'!$Q$49="Menor"),CONCATENATE("R",'Matriz riesgos de gestión'!$A$49),"") | R42: =IF(AND('Matriz riesgos de gestión'!$M$55="Muy Baja",'Matriz riesgos de gestión'!$Q$55="Menor"),CONCATENATE("R",'Matriz riesgos de gestión'!$A$55),"") | T42: =IF(AND('Matriz riesgos de gestión'!$M$61="Muy Baja",'Matriz riesgos de gestión'!$Q$61="Menor"),CONCATENATE("R",'Matriz riesgos de gestión'!$A$61),"") | V42: =IF(AND('Matriz riesgos de gestión'!$M$49="Muy Baja",'Matriz riesgos de gestión'!$Q$49="Moderado"),CONCATENATE("R",'Matriz riesgos de gestión'!$A$49),"") | X42: =IF(AND('Matriz riesgos de gestión'!$M$55="Muy Baja",'Matriz riesgos de gestión'!$Q$55="Moderado"),CONCATENATE("R",'Matriz riesgos de gestión'!$A$55),"") | Z42: =IF(AND('Matriz riesgos de gestión'!$M$61="Muy Baja",'Matriz riesgos de gestión'!$Q$61="Moderado"),CONCATENATE("R",'Matriz riesgos de gestión'!$A$61),"") | AB42: =IF(AND('Matriz riesgos de gestión'!$M$49="Muy Baja",'Matriz riesgos de gestión'!$Q$49="Mayor"),CONCATENATE("R",'Matriz riesgos de gestión'!$A$49),"") | AD42: =IF(AND('Matriz riesgos de gestión'!$M$55="Muy Baja",'Matriz riesgos de gestión'!$Q$55="Mayor"),CONCATENATE("R",'Matriz riesgos de gestión'!$A$55),"") | AF42: =IF(AND('Matriz riesgos de gestión'!$M$61="Muy Baja",'Matriz riesgos de gestión'!$Q$61="Mayor"),CONCATENATE("R",'Matriz riesgos de gestión'!$A$61),"") | AH42: =IF(AND('Matriz riesgos de gestión'!$M$49="Muy Baja",'Matriz riesgos de gestión'!$Q$49="Catastrófico"),CONCATENATE("R",'Matriz riesgos de gestión'!$A$49),"") | AJ42: =IF(AND('Matriz riesgos de gestión'!$M$55="Muy Baja",'Matriz riesgos de gestión'!$Q$55="Catastrófico"),CONCATENATE("R",'Matriz riesgos de gestión'!$A$55),"") | AL42: =IF(AND('Matriz riesgos de gestión'!$M$61="Muy Baja",'Matriz riesgos de gestión'!$Q$61="Catastrófico"),CONCATENATE("R",'Matriz riesgos de gestión'!$A$61),"")
J44: =IF(AND('Matriz riesgos de gestión'!$M$67="Muy Baja",'Matriz riesgos de gestión'!$Q$67="Leve"),CONCATENATE("R",'Matriz riesgos de gestión'!$A$67),"") | L44: =IF(AND('Matriz riesgos de gestión'!$M$73="Muy Baja",'Matriz riesgos de gestión'!$Q$73="Leve"),CONCATENATE("R",'Matriz riesgos de gestión'!$A$73),"") | N44: =IF(AND('Matriz riesgos de gestión'!$M$79="Muy Baja",'Matriz riesgos de gestión'!$Q$79="Leve"),CONCATENATE("R",'Matriz riesgos de gestión'!$A$79),"") | P44: =IF(AND('Matriz riesgos de gestión'!$M$67="Muy Baja",'Matriz riesgos de gestión'!$Q$67="Menor"),CONCATENATE("R",'Matriz riesgos de gestión'!$A$67),"") | R44: =IF(AND('Matriz riesgos de gestión'!$M$73="Muy Baja",'Matriz riesgos de gestión'!$Q$73="Menor"),CONCATENATE("R",'Matriz riesgos de gestión'!$A$73),"") | T44: =IF(AND('Matriz riesgos de gestión'!$M$79="Muy Baja",'Matriz riesgos de gestión'!$Q$79="Menor"),CONCATENATE("R",'Matriz riesgos de gestión'!$A$79),"") | V44: =IF(AND('Matriz riesgos de gestión'!$M$67="Muy Baja",'Matriz riesgos de gestión'!$Q$67="Moderado"),CONCATENATE("R",'Matriz riesgos de gestión'!$A$67),"") | X44: =IF(AND('Matriz riesgos de gestión'!$M$73="Muy Baja",'Matriz riesgos de gestión'!$Q$73="Moderado"),CONCATENATE("R",'Matriz riesgos de gestión'!$A$73),"") | Z44: =IF(AND('Matriz riesgos de gestión'!$M$79="Muy Baja",'Matriz riesgos de gestión'!$Q$79="Moderado"),CONCATENATE("R",'Matriz riesgos de gestión'!$A$79),"") | AB44: =IF(AND('Matriz riesgos de gestión'!$M$67="Muy Baja",'Matriz riesgos de gestión'!$Q$67="Mayor"),CONCATENATE("R",'Matriz riesgos de gestión'!$A$67),"") | AD44: =IF(AND('Matriz riesgos de gestión'!$M$73="Muy Baja",'Matriz riesgos de gestión'!$Q$73="Mayor"),CONCATENATE("R",'Matriz riesgos de gestión'!$A$73),"") | AF44: =IF(AND('Matriz riesgos de gestión'!$M$79="Muy Baja",'Matriz riesgos de gestión'!$Q$79="Mayor"),CONCATENATE("R",'Matriz riesgos de gestión'!$A$79),"") | AH44: =IF(AND('Matriz riesgos de gestión'!$M$67="Muy Baja",'Matriz riesgos de gestión'!$Q$67="Catastrófico"),CONCATENATE("R",'Matriz riesgos de gestión'!$A$67),"") | AJ44: =IF(AND('Matriz riesgos de gestión'!$M$73="Muy Baja",'Matriz riesgos de gestión'!$Q$73="Catastrófico"),CONCATENATE("R",'Matriz riesgos de gestión'!$A$73),"") | AL44: =IF(AND('Matriz riesgos de gestión'!$M$79="Muy Baja",'Matriz riesgos de gestión'!$Q$79="Catastrófico"),CONCATENATE("R",'Matriz riesgos de gestión'!$A$79),"")
J46: Leve 20% | P46: Menor 40% | V46: Moderado 60% | AB46: Mayor 80% | AH46: Catastrófico 100%

Sheet Matriz Calor Residual
B2: Matriz de Calor Residual | J2: Impacto
B6: Probabilidad | E6: Muy Alta 100% | J6: =IF(AND('Matriz riesgos de gestión'!$AD$4="Muy Alta",'Matriz riesgos de gestión'!$AF$4="Leve"),CONCATENATE("R1C",'Matriz riesgos de gestión'!$T$4),"") | K6: =IF(AND('Matriz riesgos de gestión'!$AD$5="Muy Alta",'Matriz riesgos de gestión'!$AF$5="Leve"),CONCATENATE("R1C",'Matriz riesgos de gestión'!$T$5),"") | L6: =IF(AND('Matriz riesgos de gestión'!$AD$6="Muy Alta",'Matriz riesgos de gestión'!$AF$6="Leve"),CONCATENATE("R1C",'Matriz riesgos de gestión'!$T$6),"") | M6: =IF(AND('Matriz riesgos de gestión'!$AD$7="Muy Alta",'Matriz riesgos de gestión'!$AF$7="Leve"),CONCATENATE("R1C",'Matriz riesgos de gestión'!$T$7),"") | N6: =IF(AND('Matriz riesgos de gestión'!$AD$8="Muy Alta",'Matriz riesgos de gestión'!$AF$8="Leve"),CONCATENATE("R1C",'Matriz riesgos de gestión'!$T$8),"") | O6: =IF(AND('Matriz riesgos de gestión'!$AD$9="Muy Alta",'Matriz riesgos de gestión'!$AF$9="Leve"),CONCATENATE("R1C",'Matriz riesgos de gestión'!$T$9),"") | P6: =IF(AND('Matriz riesgos de gestión'!$AD$4="Muy Alta",'Matriz riesgos de gestión'!$AF$4="Menor"),CONCATENATE("R1C",'Matriz riesgos de gestión'!$T$4),"") | Q6: =IF(AND('Matriz riesgos de gestión'!$AD$5="Muy Alta",'Matriz riesgos de gestión'!$AF$5="Menor"),CONCATENATE("R1C",'Matriz riesgos de gestión'!$T$5),"") | R6: =IF(AND('Matriz riesgos de gestión'!$AD$6="Muy Alta",'Matriz riesgos de gestión'!$AF$6="Menor"),CONCATENATE("R1C",'Matriz riesgos de gestión'!$T$6),"") | S6: =IF(AND('Matriz riesgos de gestión'!$AD$7="Muy Alta",'Matriz riesgos de gestión'!$AF$7="Menor"),CONCATENATE("R1C",'Matriz riesgos de gestión'!$T$7),"") | T6: =IF(AND('Matriz riesgos de gestión'!$AD$8="Muy Alta",'Matriz riesgos de gestión'!$AF$8="Menor"),CONCATENATE("R1C",'Matriz riesgos de gestión'!$T$8),"") | U6: =IF(AND('Matriz riesgos de gestión'!$AD$9="Muy Alta",'Matriz riesgos de gestión'!$AF$9="Menor"),CONCATENATE("R1C",'Matriz riesgos de gestión'!$T$9),"") | V6: =IF(AND('Matriz riesgos de gestión'!$AD$4="Muy Alta",'Matriz riesgos de gestión'!$AF$4="Moderado"),CONCATENATE("R1C",'Matriz riesgos de gestión'!$T$4),"") | W6: =IF(AND('Matriz riesgos de gestión'!$AD$5="Muy Alta",'Matriz riesgos de gestión'!$AF$5="Moderado"),CONCATENATE("R1C",'Matriz riesgos de gestión'!$T$5),"") | X6: =IF(AND('Matriz riesgos de gestión'!$AD$6="Muy Alta",'Matriz riesgos de gestión'!$AF$6="Moderado"),CONCATENATE("R1C",'Matriz riesgos de gestión'!$T$6),"") | Y6: =IF(AND('Matriz riesgos de gestión'!$AD$7="Muy Alta",'Matriz riesgos de gestión'!$AF$7="Moderado"),CONCATENATE("R1C",'Matriz riesgos de gestión'!$T$7),"") | Z6: =IF(AND('Matriz riesgos de gestión'!$AD$8="Muy Alta",'Matriz riesgos de gestión'!$AF$8="Moderado"),CONCATENATE("R1C",'Matriz riesgos de gestión'!$T$8),"") | AA6: =IF(AND('Matriz riesgos de gestión'!$AD$9="Muy Alta",'Matriz riesgos de gestión'!$AF$9="Moderado"),CONCATENATE("R1C",'Matriz riesgos de gestión'!$T$9),"") | AB6: =IF(AND('Matriz riesgos de gestión'!$AD$4="Muy Alta",'Matriz riesgos de gestión'!$AF$4="Mayor"),CONCATENATE("R1C",'Matriz riesgos de gestión'!$T$4),"") | AC6: =IF(AND('Matriz riesgos de gestión'!$AD$5="Muy Alta",'Matriz riesgos de gestión'!$AF$5="Mayor"),CONCATENATE("R1C",'Matriz riesgos de gestión'!$T$5),"") | AD6: =IF(AND('Matriz riesgos de gestión'!$AD$6="Muy Alta",'Matriz riesgos de gestión'!$AF$6="Mayor"),CONCATENATE("R1C",'Matriz riesgos de gestión'!$T$6),"") | AE6: =IF(AND('Matriz riesgos de gestión'!$AD$7="Muy Alta",'Matriz riesgos de gestión'!$AF$7="Mayor"),CONCATENATE("R1C",'Matriz riesgos de gestión'!$T$7),"") | AF6: =IF(AND('Matriz riesgos de gestión'!$AD$8="Muy Alta",'Matriz riesgos de gestión'!$AF$8="Mayor"),CONCATENATE("R1C",'Matriz riesgos de gestión'!$T$8),"") | AG6: =IF(AND('Matriz riesgos de gestión'!$AD$9="Muy Alta",'Matriz riesgos de gestión'!$AF$9="Mayor"),CONCATENATE("R1C",'Matriz riesgos de gestión'!$T$9),"") | AH6: =IF(AND('Matriz riesgos de gestión'!$AD$4="Muy Alta",'Matriz riesgos de gestión'!$AF$4="Catastrófico"),CONCATENATE("R1C",'Matriz riesgos de gestión'!$T$4),"") | AI6: =IF(AND('Matriz riesgos de gestión'!$AD$5="Muy Alta",'Matriz riesgos de gestión'!$AF$5="Catastrófico"),CONCATENATE("R1C",'Matriz riesgos de gestión'!$T$5),"") | AJ6: =IF(AND('Matriz riesgos de gestión'!$AD$6="Muy Alta",'Matriz riesgos de gestión'!$AF$6="Catastrófico"),CONCATENATE("R1C",'Matriz riesgos de gestión'!$T$6),"") | AK6: =IF(AND('Matriz riesgos de gestión'!$AD$7="Muy Alta",'Matriz riesgos de gestión'!$AF$7="Catastrófico"),CONCATENATE("R1C",'Matriz riesgos de gestión'!$T$7),"") | AL6: =IF(AND('Matriz riesgos de gestión'!$AD$8="Muy Alta",'Matriz riesgos de gestión'!$AF$8="Catastrófico"),CONCATENATE("R1C",'Matriz riesgos de gestión'!$T$8),"") | AM6: =IF(AND('Matriz riesgos de gestión'!$AD$9="Muy Alta",'Matriz riesgos de gestión'!$AF$9="Catastrófico"),CONCATENATE("R1C",'Matriz riesgos de gestión'!$T$9),"") | AO6: Extremo
